BEGIN:VCALENDAR
VERSION:2.0
PRODID:-//wp-events-plugin.com//7.2.3.1//EN
BEGIN:VEVENT
UID:392@vasterastradgard.se
DTSTART:20240916T120000Z
DTEND:20240919T150000Z
DTSTAMP:20240828T110746Z
URL:https://vasterastradgard.se/Aktiviteter/appelvecka-pa-vallby-friluftsm
 useum-4/
SUMMARY:Äppelvecka på Vallby Friluftsmuseum
DESCRIPTION:Kom och titta på en fruktutställning med över 100 sorter av 
 framförallt äpplen men också päron\, plommon och vindruvor. Ta chanse
 n att andas\, dofta\, njuta och lära om äpplen.\n\nDe svenska äpplena k
 an oftast lagras längre än många importerade sorter. De har god motstå
 ndskraft mot sjukdomar\, mognar långsamt och har en härlig arom.\n\nFruk
 ten samlas in i Västerås med omnejd av VTS.\n\nÄppeldagarna arrangeras 
 i samarbete med Vallby Friluftsmuseum.\n\nObservera ingen sortbestämning
   under äppelveckan. \n\nIngen avgift.\n\n\nPlats: Vallby Friluftsmuseu
 m\, Missionshuset\n\nAnsvarig: Ann-Sofi Freyhult 073 977 79 37\n\n&nbsp\;\
 n\n&nbsp\;\n\nI samverkan med\n\n
ATTACH;FMTTYPE=image/jpeg:https://i0.wp.com/media2.vasterastradgard.se/202
 3/09/20230917_132058-scaled-e1722588755474.jpg?fit=1907%2C1902&ssl=1
END:VEVENT
END:VCALENDAR