BEGIN:VCALENDAR
VERSION:2.0
PRODID:-//wp-events-plugin.com//7.2.3.1//EN
BEGIN:VEVENT
UID:393@vasterastradgard.se
DTSTART:20241016T170000Z
DTEND:20241016T193000Z
DTSTAMP:20240828T110806Z
URL:https://vasterastradgard.se/Aktiviteter/hostmote-odla-for-klimatet/
SUMMARY:Höstmöte - Odla för klimatet
DESCRIPTION:Peter Streijffert är författaren\, kocken\, odlaren och före
 läsaren som älskar att upptäcka smaker och se hur de bäst passar ihop.
  Han är en miljökämpe som själv odlar det mesta av sin egen mat och g
 ärna berättar om sina knep.\n\nAtt odla är en livsstil och ett sätt at
 t förändra världen. En bit jord är allt man behöver. För den som har
  en trädgård är det enkelt\, jorden finns och säkert också platsen. M
 en det kan räcka med en balkong\, en fönsterbräda eller en liten plätt
  utanför terrassdörren – det går att odla överallt.\n\nGenom att odl
 a på rätt sätt gynnas klimatet och pollinerarna. Det här är en förel
 äsning som ger exempel och inspiration på smart odling som sker i samkla
 ng med naturen.\n\nAvgift inkl. kaffe: 60 kr för medlem\, 100 kr för öv
 riga.\n\nAnsvarig: Berit Karlsson 070 663 15 60
ATTACH;FMTTYPE=image/jpeg:https://i0.wp.com/media2.vasterastradgard.se/202
 4/08/Peter-Streijffert.jpg?fit=1000%2C390&ssl=1
END:VEVENT
END:VCALENDAR