BEGIN:VCALENDAR
VERSION:2.0
PRODID:-//wp-events-plugin.com//7.2.3.1//EN
BEGIN:VEVENT
UID:456@vasterastradgard.se
DTSTART:20260607T090000Z
DTEND:20260607T150000Z
DTSTAMP:20260421T145413Z
URL:https://vasterastradgard.se/Aktiviteter/smideskurs-prova-pa-smide/
SUMMARY:Smideskurs – Prova på smide.
DESCRIPTION:Under Anders Fredrikssons kunniga ledning får vi prova på smi
 de. Man kan t ex göra ett rensjärn\, en liten spade eller en (två) krok
 . Dagen börjar med lite teori om smide och även om järnet som material.
  Vi får även en genomgång av säkerhet. Allt material vi behöver finns
  på plats\, även skyddsglasögon och hörselkåpor. Vill man ta med egna
  går det bra. Glöm inte ta med mat och fika.\n\nKursledare: Anders Fredr
 iksson.\n\nPlats: Smedjan vid Skantzens friluftsmuseum i Hallstahammar.\n\
 nVägbeskrivning: Google Maps. Vi samlas vid Åsby Hotell och Konferens\, 
 Skantzgatan 7 Hallstahammar kl. 9.45. Det krävs tillstånd att köra in p
 å museiområdet.\n\nSamåkning: Se informationsrutan överst på sidan.\n
 \nAnmälan senast 15 maj\, se nedan \n\nKursavgift: 1 200 kr som betalas
  in efter bekräftelse att kursen blir av till VTS PG 39 29 40-3 senast 27
  maj. \n\nMax 5 deltagare. Vill man dela ässja och städ med en kompis bl
 ir kostnaden 675 kr per person\, men då måste ni anmäla er som ett par.
  Skrivs i kommentaren vid anmälan. Betalning görs av anmälaren och seda
 n gör ni upp er emellan.\n\nAnsvarig: Berit Karlsson 070 663 15 60.\n\n&
 nbsp\;
ATTACH;FMTTYPE=image/jpeg:https://i0.wp.com/media2.vasterastradgard.se/202
 6/01/Tradgardskurs-720x300-1.jpg?fit=720%2C300&ssl=1
END:VEVENT
END:VCALENDAR