BEGIN:VCALENDAR
VERSION:2.0
PRODID:-//wp-events-plugin.com//7.2.3.1//EN
BEGIN:VEVENT
UID:447@vasterastradgard.se
DTSTART:20260625T170000Z
DTEND:20260625T170000Z
DTSTAMP:20260109T133711Z
URL:https://vasterastradgard.se/Aktiviteter/tradgardsbesok-irsta/
SUMMARY:Trädgårdsbesök Irsta.
DESCRIPTION:Marina Brokås och Lars Gustafsson har en rörig samlarträdgå
 rd på drygt 1000 m2 under ständig förändring. \n\nHär finns lite av a
 llt möjligt som avspeglar olika intressen över tid.\n\nNu är det främs
 t växter med annorlunda form eller färg på bladen som lockar.\n\nDe tes
 tar att zonknäcka\, ibland går det\, ibland inte.  Från kaktusar till 
 tulpanträd.\n\nAvgift: 30 kr inkl. kaffe.\n\nAnsvarig: Berit Karlsson 070
  663 15 60.
ATTACH;FMTTYPE=image/jpeg:https://i0.wp.com/media2.vasterastradgard.se/202
 5/12/Tradgardsbesok-720x300-1.jpg?fit=720%2C300&ssl=1
END:VEVENT
END:VCALENDAR