BEGIN:VCALENDAR
VERSION:2.0
PRODID:-//wp-events-plugin.com//7.2.3.1//EN
BEGIN:VEVENT
UID:435@vasterastradgard.se
DTSTART:20260505T170000Z
DTEND:20260505T170000Z
DTSTAMP:20260415T084528Z
URL:https://vasterastradgard.se/Aktiviteter/traff-for-nya-medlemmar-10/
SUMMARY:Fulltecknad. Träff för nya medlemmar
DESCRIPTION:Välkommen till en träff där vi kort informerar om föreninge
 ns verksamhet\, fikar och allmänt pratar trädgård med varandra. Kvälle
 n avslutas med en kortare rundvandring i Svenssons trädgård.\n\nParkera 
 längs med trottoaren på Båthusgatan.\n\nAnmälan senast 2026-04-30\n\nT
 a gärna buss nr 4 mot Brottberga till hållplats Norra Vallby och gå vä
 sterut mot skidbacken så hittar du tvärgatan.\n\nSärskild inbjudan sän
 ts till berörda. Om träffen blir fullbokad så kommer en ny möjlighet s
 enare i maj.\n\nAnsvarig\; Ann-Christine Svensson 070 746 88 86\n\n&nbsp\;
ATTACH;FMTTYPE=image/jpeg:https://i0.wp.com/media2.vasterastradgard.se/202
 4/01/VTS-logga_med-text.png?fit=272%2C254&ssl=1
END:VEVENT
END:VCALENDAR