BEGIN:VCALENDAR
VERSION:2.0
PRODID:-//wp-events-plugin.com//7.2.3.1//EN
BEGIN:VEVENT
UID:448@vasterastradgard.se
DTSTART:20260628T090000Z
DTEND:20260628T160000Z
DTSTAMP:20260109T133725Z
URL:https://vasterastradgard.se/Aktiviteter/tusen-tradgardar-2026/
SUMMARY:Tusen Trädgårdar 2026.
DESCRIPTION:Tusen Trädgårdar är Sveriges största trädgårdsvisning.\n\
 nUnder en och samma dag öppnar mängder med trädgårdsälskare över hel
 a landet sina grindar för nyfikna gäster. Det är ett härligt sätt att
  lära av varandra\, inspireras och öka sin kunskap. Folkbildning och odl
 ingsglädje i symbios.\n\nFörsta gången Tusen Trädgårdar hölls var 20
 10 och har sedan hållits vartannat år med hjälp av tusentals trädgård
 sentusiaster. För varje år har intresset för att både visa sin trädg
 ård och besöka trädgårdarna ökat.\n\nHär kommer vi att lägga ut tr
 ädgårdarna i Västmanland\n\nPå Svensk Trädgårds hemsida hittar du me
 r information. Länk här&gt\;&gt\;
END:VEVENT
END:VCALENDAR