BEGIN:VCALENDAR
VERSION:2.0
PRODID:-//wp-events-plugin.com//7.2.3.1//EN
BEGIN:VEVENT
UID:368@vasterastradgard.se
DTSTART:20240519T100000Z
DTEND:20240519T140000Z
DTSTAMP:20240513T084807Z
URL:https://vasterastradgard.se/Aktiviteter/vaxtmarknad-pa-vallby-med-akti
 viteter-for-barn-2/
SUMMARY:Växtmarknad på Vallby med aktiviteter för barn
DESCRIPTION:VTS-medlemmar säljer plantor\, sticklingar\, fröer\, trädgå
 rdstillbehör etc.\nKommer att finnas uppdragna plantor av tomater\, chili
 \, kål och sommarblommor.\nPerenner i form av sticklingar och/eller delni
 ngar av många olika sorter.\n\nAlla är välkomna att handla.\n\nBetala m
 ed Swish eller kontant betalning (helst jämna pengar)\nBarnaktiviteter\nV
 id föreningsbordet (där vår beachflagga står) kan barn så solrosfrö 
 och odla upp dessa under växtsäsongen.\nEn gåva överlämnas när resul
 tatet visas i form av fysisk växt eller bild på densamma när vi är på
  Vallby igen under\nhöstaktiviteterna Gröna Västerås 25/8 eller Höstf
 esten 1/9 eller Äppeldagarna 14-15/9.\n\n\n\nIngen avgift. \n\nAnmälan f
 ör säljare senast 13 maj\, se nedan\nAntal bord är 1 som standard. Beh
 över du fler ange antal i kommentarsfältet på anmälan.\n\nInformation 
 till säljare finns här &gt\;&gt\;\n\nAnsvarig: Kerstin Lindh 070 273 35
  95.\n\n&nbsp\;\n\nI samverkan med\n\n\n\n&nbsp\;\n\n&nbsp\;\n\n&nbsp\;
ATTACH;FMTTYPE=image/jpeg:https://i0.wp.com/media2.vasterastradgard.se/202
 4/01/20230521_113732.jpg?fit=1600%2C1200&ssl=1
END:VEVENT
END:VCALENDAR